Workbook

Sheet 1.) CLIENT INFORMATION SHEET
B1: CLIENT INFORMATION SHEET (CIS) to be filled out by the Corporate Client
B3: COMPANY/AGENCY NAME (AS REFLECTED IN SEC/DTI REGISTRATION)
B4: OFFICE ADDRESS
B5: AUTHORIZED SIGNATORY
B6: DESIGNATION
B7: CONTACT PERSON
B8: DESIGNATION
B9: BILL ADDRESSEE
B10: DESIGNATION
B11: TELEPHONE NUMBER
B12: NATURE OF BUSINESS
B13: EMAIL ADDRESS
... B15: CHOSEN PLAN TYPE
B16: PLAN TYPE (auto generate, do not fill up) | H16: MEMBERSHIP FEE | I16: COUNT
B17: {=_xlfn.UNIQUE('2.) E-DATA LISTING'!B7:B200)} -> ER Care All-In 80 Adults Semi Private | H17: =IF(B17=0, ,(_xlfn.XLOOKUP(B17,'Product list'!$D$3:$D$16,'Product list'!$E$3:$E$16))) -> 1350 | I17: =IF(B17=0, ,(SUMIF('2.) E-DATA LISTING'!$B$7:$D$200,B17,'2.) E-DATA LISTING'!$D$7:$D$200))) -> 1 | J17: =+H17*I17 -> 1350
B18: MedConsult Adults | H18: =IF(B18=0, ,(_xlfn.XLOOKUP(B18,'Product list'!$D$3:$D$16,'Product list'!$E$3:$E$16))) -> 2500 | I18: =IF(B18=0, ,(SUMIF('2.) E-DATA LISTING'!$B$7:$D$200,B18,'2.) E-DATA LISTING'!$D$7:$D$200))) -> 1 | J18: =+H18*I18 -> 2500
B19: 0 | H19: =IF(B19=0, ,(_xlfn.XLOOKUP(B19,'Product list'!$D$3:$D$16,'Product list'!$E$3:$E$16))) -> 0 | I19: =IF(B19=0, ,(SUMIF('2.) E-DATA LISTING'!$B$7:$D$200,B19,'2.) E-DATA LISTING'!$D$7:$D$200))) -> 0 | J19: =+H19*I19 -> 0
H20: =IF(B20=0, ,(_xlfn.XLOOKUP(B20,'Product list'!$D$3:$D$16,'Product list'!$E$3:$E$16))) -> 0 | I20: =IF(B20=0, ,(SUMIF('2.) E-DATA LISTING'!$B$7:$D$200,B20,'2.) E-DATA LISTING'!$D$7:$D$200))) -> 0 | J20: =+H20*I20 -> 0
H21: =IF(B21=0, ,(_xlfn.XLOOKUP(B21,'Product list'!$D$3:$D$16,'Product list'!$E$3:$E$16))) -> 0 | I21: =IF(B21=0, ,(SUMIF('2.) E-DATA LISTING'!$B$7:$D$200,B21,'2.) E-DATA LISTING'!$D$7:$D$200))) -> 0 | J21: =+H21*I21 -> 0
H22: =IF(B22=0, ,(_xlfn.XLOOKUP(B22,'Product list'!$D$3:$D$16,'Product list'!$E$3:$E$16))) -> 0 | I22: =IF(B22=0, ,(SUMIF('2.) E-DATA LISTING'!$B$7:$D$200,B22,'2.) E-DATA LISTING'!$D$7:$D$200))) -> 0 | J22: =+H22*I22 -> 0
H23: =IF(B23=0, ,(_xlfn.XLOOKUP(B23,'Product list'!$D$3:$D$16,'Product list'!$E$3:$E$16))) -> 0 | I23: =IF(B23=0, ,(SUMIF('2.) E-DATA LISTING'!$B$7:$D$200,B23,'2.) E-DATA LISTING'!$D$7:$D$200))) -> 0 | J23: =+H23*I23 -> 0
H24: =IF(B24=0, ,(_xlfn.XLOOKUP(B24,'Product list'!$D$3:$D$16,'Product list'!$E$3:$E$16))) -> 0 | I24: =IF(B24=0, ,(SUMIF('2.) E-DATA LISTING'!$B$7:$D$200,B24,'2.) E-DATA LISTING'!$D$7:$D$200))) -> 0 | J24: =+H24*I24 -> 0
H25: =IF(B25=0, ,(_xlfn.XLOOKUP(B25,'Product list'!$D$3:$D$16,'Product list'!$E$3:$E$16))) -> 0 | I25: =IF(B25=0, ,(SUMIF('2.) E-DATA LISTING'!$B$7:$D$200,B25,'2.) E-DATA LISTING'!$D$7:$D$200))) -> 0 | J25: =+H25*I25 -> 0
H26: =IF(B26=0, ,(_xlfn.XLOOKUP(B26,'Product list'!$D$3:$D$16,'Product list'!$E$3:$E$16))) -> 0 | I26: =IF(B26=0, ,(SUMIF('2.) E-DATA LISTING'!$B$7:$D$200,B26,'2.) E-DATA LISTING'!$D$7:$D$200))) -> 0 | J26: =+H26*I26 -> 0
H27: =IF(B27=0, ,(_xlfn.XLOOKUP(B27,'Product list'!$D$3:$D$16,'Product list'!$E$3:$E$16))) -> 0 | I27: =IF(B27=0, ,(SUMIF('2.) E-DATA LISTING'!$B$7:$D$200,B27,'2.) E-DATA LISTING'!$D$7:$D$200))) -> 0 | J27: =+H27*I27 -> 0
H28: =IF(B28=0, ,(_xlfn.XLOOKUP(B28,'Product list'!$D$3:$D$16,'Product list'!$E$3:$E$16))) -> 0 | I28: =IF(B28=0, ,(SUMIF('2.) E-DATA LISTING'!$B$7:$D$200,B28,'2.) E-DATA LISTING'!$D$7:$D$200))) -> 0 | J28: =+H28*I28 -> 0
H29: =IF(B29=0, ,(_xlfn.XLOOKUP(B29,'Product list'!$D$3:$D$16,'Product list'!$E$3:$E$16))) -> 0 | I29: =IF(B29=0, ,(SUMIF('2.) E-DATA LISTING'!$B$7:$D$200,B29,'2.) E-DATA LISTING'!$D$7:$D$200))) -> 0 | J29: =+H29*I29 -> 0
H30: =IF(B30=0, ,(_xlfn.XLOOKUP(B30,'Product list'!$D$3:$D$16,'Product list'!$E$3:$E$16))) -> 0 | I30: =IF(B30=0, ,(SUMIF('2.) E-DATA LISTING'!$B$7:$D$200,B30,'2.) E-DATA LISTING'!$D$7:$D$200))) -> 0 | J30: =+H30*I30 -> 0
I31: =SUM(I17:I30) -> 2 | J31: =SUM(J17:J30) -> 3850

Sheet Sheet1
B3: modified by RAUL C. ALCAZAR
B4: to make things easy and user friendly
B5: makes us happy
B6: by filling up unshaded portions everything is automatically generated up to SOA/Billing

Sheet 2.) E-DATA LISTING
B1: FILL UP UNSHADED CELLS ONLY
B2: ENTER PRODUCT CODE IN COLUMN A & QUANTITY IN COLUMN D | I2: Raul C. Alcazar
B3: CHECK PRODUCT CODE IN PRODUCT LIST | I3: 0917-8192590 (02)8463-4771
B4: RECOMMEND TO USE EXCEL. THERE ARE FORMULAS THAT DO NOT WORK ON GOOGLE SHEET
A5: PRODUCT CODE | B5: PRODUCT (auto generate) | C5: PRICE (auto generate) | D5: QUANTITY | E5: TOTAL (auto generate) | G5: FIRST NAME | H5: LAST NAME | I5: MIDDLE NAME | J5: SUFFIX | K5: DATE OF BIRTH | L5: GENDER | M5: CIVIL STATUS (SINGLE; MARRIED; WIDOW/WIDOWER) | N5: MOBILE | O5: E-MAIL | Q5: ADDRESS
B6: 9auto generated) | F6: JOINED NAME | P6: JOINED ADDRESS | Q6: STREET | R6: BARANGAY | S6: PROVINCE | T6: CITY
A7: c | B7: =IF(A7=0, 0,(_xlfn.XLOOKUP(A7,'Product list'!$B$3:$B$16,'Product list'!$D$3:$D$16))) -> ER Care All-In 80 Adults Semi Private | C7: =IF(B7=0, 0,(_xlfn.XLOOKUP(B7,'Product list'!$D$3:$D$16,'Product list'!$E$3:$E$16))) -> 1350 | D7: 1 | E7: =+C7*D7 -> 1350 | F7: =_xlfn.TEXTJOIN(" ",TRUE,G7, I7,H7,J7) -> John | G7: John | P7: =_xlfn.TEXTJOIN(" ",TRUE,Q7, R7,S7,T7) | V7: =SUM(C7:C39) -> 3850
A8: k | B8: =IF(A8=0, 0,(_xlfn.XLOOKUP(A8,'Product list'!$B$3:$B$16,'Product list'!$D$3:$D$16))) -> MedConsult Adults | C8: =IF(B8=0, 0,(_xlfn.XLOOKUP(B8,'Product list'!$D$3:$D$16,'Product list'!$E$3:$E$16))) -> 2500 | D8: 1 | E8: =+C8*D8 -> 2500 | F8: =_xlfn.TEXTJOIN(" ",TRUE,G8, I8,H8,J8) -> John | G8: John | P8: =_xlfn.TEXTJOIN(" ",TRUE,Q8, R8,S8,T8)
B9: =IF(A9=0, 0,(_xlfn.XLOOKUP(A9,'Product list'!$B$3:$B$16,'Product list'!$D$3:$D$16))) -> 0 | C9: =IF(B9=0, 0,(_xlfn.XLOOKUP(B9,'Product list'!$D$3:$D$16,'Product list'!$E$3:$E$16))) -> 0 | E9: =+C9*D9 -> 0 | F9: =_xlfn.TEXTJOIN(" ",TRUE,G9, I9,H9,J9) | P9: =_xlfn.TEXTJOIN(" ",TRUE,Q9, R9,S9,T9)
B10: =IF(A10=0, 0,(_xlfn.XLOOKUP(A10,'Product list'!$B$3:$B$16,'Product list'!$D$3:$D$16))) -> 0 | C10: =IF(B10=0, 0,(_xlfn.XLOOKUP(B10,'Product list'!$D$3:$D$16,'Product list'!$E$3:$E$16))) -> 0 | E10: =+C10*D10 -> 0 | F10: =_xlfn.TEXTJOIN(" ",TRUE,G10, I10,H10,J10) | P10: =_xlfn.TEXTJOIN(" ",TRUE,Q10, R10,S10,T10)
B11: =IF(A11=0, 0,(_xlfn.XLOOKUP(A11,'Product list'!$B$3:$B$16,'Product list'!$D$3:$D$16))) -> 0 | C11: =IF(B11=0, 0,(_xlfn.XLOOKUP(B11,'Product list'!$D$3:$D$16,'Product list'!$E$3:$E$16))) -> 0 | E11: =+C11*D11 -> 0 | F11: =_xlfn.TEXTJOIN(" ",TRUE,G11, I11,H11,J11) | P11: =_xlfn.TEXTJOIN(" ",TRUE,Q11, R11,S11,T11)
B12: =IF(A12=0, 0,(_xlfn.XLOOKUP(A12,'Product list'!$B$3:$B$16,'Product list'!$D$3:$D$16))) -> 0 | C12: =IF(B12=0, 0,(_xlfn.XLOOKUP(B12,'Product list'!$D$3:$D$16,'Product list'!$E$3:$E$16))) -> 0 | E12: =+C12*D12 -> 0 | F12: =_xlfn.TEXTJOIN(" ",TRUE,G12, I12,H12,J12) | P12: =_xlfn.TEXTJOIN(" ",TRUE,Q12, R12,S12,T12)
B13: =IF(A13=0, 0,(_xlfn.XLOOKUP(A13,'Product list'!$B$3:$B$16,'Product list'!$D$3:$D$16))) -> 0 | C13: =IF(B13=0, 0,(_xlfn.XLOOKUP(B13,'Product list'!$D$3:$D$16,'Product list'!$E$3:$E$16))) -> 0 | E13: =+C13*D13 -> 0 | F13: =_xlfn.TEXTJOIN(" ",TRUE,G13, I13,H13,J13) | P13: =_xlfn.TEXTJOIN(" ",TRUE,Q13, R13,S13,T13)
B14: =IF(A14=0, 0,(_xlfn.XLOOKUP(A14,'Product list'!$B$3:$B$16,'Product list'!$D$3:$D$16))) -> 0 | C14: =IF(B14=0, 0,(_xlfn.XLOOKUP(B14,'Product list'!$D$3:$D$16,'Product list'!$E$3:$E$16))) -> 0 | E14: =+C14*D14 -> 0 | F14: =_xlfn.TEXTJOIN(" ",TRUE,G14, I14,H14,J14) | P14: =_xlfn.TEXTJOIN(" ",TRUE,Q14, R14,S14,T14)
B15: =IF(A15=0, 0,(_xlfn.XLOOKUP(A15,'Product list'!$B$3:$B$16,'Product list'!$D$3:$D$16))) -> 0 | C15: =IF(B15=0, 0,(_xlfn.XLOOKUP(B15,'Product list'!$D$3:$D$16,'Product list'!$E$3:$E$16))) -> 0 | E15: =+C15*D15 -> 0 | F15: =_xlfn.TEXTJOIN(" ",TRUE,G15, I15,H15,J15) | P15: =_xlfn.TEXTJOIN(" ",TRUE,Q15, R15,S15,T15)
B16: =IF(A16=0, 0,(_xlfn.XLOOKUP(A16,'Product list'!$B$3:$B$16,'Product list'!$D$3:$D$16))) -> 0 | C16: =IF(B16=0, 0,(_xlfn.XLOOKUP(B16,'Product list'!$D$3:$D$16,'Product list'!$E$3:$E$16))) -> 0 | E16: =+C16*D16 -> 0 | F16: =_xlfn.TEXTJOIN(" ",TRUE,G16, I16,H16,J16) | P16: =_xlfn.TEXTJOIN(" ",TRUE,Q16, R16,S16,T16)
B17: =IF(A17=0, 0,(_xlfn.XLOOKUP(A17,'Product list'!$B$3:$B$16,'Product list'!$D$3:$D$16))) -> 0 | C17: =IF(B17=0, 0,(_xlfn.XLOOKUP(B17,'Product list'!$D$3:$D$16,'Product list'!$E$3:$E$16))) -> 0 | E17: =+C17*D17 -> 0 | F17: =_xlfn.TEXTJOIN(" ",TRUE,G17, I17,H17,J17) | P17: =_xlfn.TEXTJOIN(" ",TRUE,Q17, R17,S17,T17)
B18: =IF(A18=0, 0,(_xlfn.XLOOKUP(A18,'Product list'!$B$3:$B$16,'Product list'!$D$3:$D$16))) -> 0 | C18: =IF(B18=0, 0,(_xlfn.XLOOKUP(B18,'Product list'!$D$3:$D$16,'Product list'!$E$3:$E$16))) -> 0 | E18: =+C18*D18 -> 0 | F18: =_xlfn.TEXTJOIN(" ",TRUE,G18, I18,H18,J18) | P18: =_xlfn.TEXTJOIN(" ",TRUE,Q18, R18,S18,T18)
B19: =IF(A19=0, 0,(_xlfn.XLOOKUP(A19,'Product list'!$B$3:$B$16,'Product list'!$D$3:$D$16))) -> 0 | C19: =IF(B19=0, 0,(_xlfn.XLOOKUP(B19,'Product list'!$D$3:$D$16,'Product list'!$E$3:$E$16))) -> 0 | E19: =+C19*D19 -> 0 | F19: =_xlfn.TEXTJOIN(" ",TRUE,G19, I19,H19,J19) | P19: =_xlfn.TEXTJOIN(" ",TRUE,Q19, R19,S19,T19)
B20: =IF(A20=0, 0,(_xlfn.XLOOKUP(A20,'Product list'!$B$3:$B$16,'Product list'!$D$3:$D$16))) -> 0 | C20: =IF(B20=0, 0,(_xlfn.XLOOKUP(B20,'Product list'!$D$3:$D$16,'Product list'!$E$3:$E$16))) -> 0 | E20: =+C20*D20 -> 0 | F20: =_xlfn.TEXTJOIN(" ",TRUE,G20, I20,H20,J20) | P20: =_xlfn.TEXTJOIN(" ",TRUE,Q20, R20,S20,T20)
... B32: =IF(A32=0, 0,(_xlfn.XLOOKUP(A32,'Product list'!$B$3:$B$16,'Product list'!$D$3:$D$16))) -> 0 | C32: =IF(B32=0, 0,(_xlfn.XLOOKUP(B32,'Product list'!$D$3:$D$16,'Product list'!$E$3:$E$16))) -> 0 | E32: =+C32*D32 -> 0 | F32: =_xlfn.TEXTJOIN(" ",TRUE,G32, I32,H32,J32) | P32: =_xlfn.TEXTJOIN(" ",TRUE,Q32, R32,S32,T32)
B33: =IF(A33=0, 0,(_xlfn.XLOOKUP(A33,'Product list'!$B$3:$B$16,'Product list'!$D$3:$D$16))) -> 0 | C33: =IF(B33=0, 0,(_xlfn.XLOOKUP(B33,'Product list'!$D$3:$D$15,'Product list'!$E$3:$E$15))) -> 0 | E33: =+C33*D33 -> 0 | F33: =_xlfn.TEXTJOIN(" ",TRUE,G33, I33,H33,J33) | P33: =_xlfn.TEXTJOIN(" ",TRUE,Q33, R33,S33,T33)
B34: =IF(A34=0, 0,(_xlfn.XLOOKUP(A34,'Product list'!$B$3:$B$16,'Product list'!$D$3:$D$16))) -> 0 | C34: =IF(B34=0, 0,(_xlfn.XLOOKUP(B34,'Product list'!$D$3:$D$15,'Product list'!$E$3:$E$15))) -> 0 | E34: =+C34*D34 -> 0 | F34: =_xlfn.TEXTJOIN(" ",TRUE,G34, I34,H34,J34) | P34: =_xlfn.TEXTJOIN(" ",TRUE,Q34, R34,S34,T34)
B35: =IF(A35=0, 0,(_xlfn.XLOOKUP(A35,'Product list'!$B$3:$B$16,'Product list'!$D$3:$D$16))) -> 0 | C35: =IF(B35=0, 0,(_xlfn.XLOOKUP(B35,'Product list'!$D$3:$D$15,'Product list'!$E$3:$E$15))) -> 0 | E35: =+C35*D35 -> 0 | F35: =_xlfn.TEXTJOIN(" ",TRUE,G35, I35,H35,J35) | P35: =_xlfn.TEXTJOIN(" ",TRUE,Q35, R35,S35,T35)
B36: =IF(A36=0, 0,(_xlfn.XLOOKUP(A36,'Product list'!$B$3:$B$16,'Product list'!$D$3:$D$16))) -> 0 | C36: =IF(B36=0, 0,(_xlfn.XLOOKUP(B36,'Product list'!$D$3:$D$15,'Product list'!$E$3:$E$15))) -> 0 | E36: =+C36*D36 -> 0 | F36: =_xlfn.TEXTJOIN(" ",TRUE,G36, I36,H36,J36) | P36: =_xlfn.TEXTJOIN(" ",TRUE,Q36, R36,S36,T36)
B37: =IF(A37=0, 0,(_xlfn.XLOOKUP(A37,'Product list'!$B$3:$B$16,'Product list'!$D$3:$D$16))) -> 0 | C37: =IF(B37=0, 0,(_xlfn.XLOOKUP(B37,'Product list'!$D$3:$D$15,'Product list'!$E$3:$E$15))) -> 0 | E37: =+C37*D37 -> 0 | F37: =_xlfn.TEXTJOIN(" ",TRUE,G37, I37,H37,J37) | P37: =_xlfn.TEXTJOIN(" ",TRUE,Q37, R37,S37,T37)
B38: =IF(A38=0, 0,(_xlfn.XLOOKUP(A38,'Product list'!$B$3:$B$16,'Product list'!$D$3:$D$16))) -> 0 | C38: =IF(B38=0, 0,(_xlfn.XLOOKUP(B38,'Product list'!$D$3:$D$15,'Product list'!$E$3:$E$15))) -> 0 | E38: =+C38*D38 -> 0 | F38: =_xlfn.TEXTJOIN(" ",TRUE,G38, I38,H38,J38) | P38: =_xlfn.TEXTJOIN(" ",TRUE,Q38, R38,S38,T38)
B39: =IF(A39=0, 0,(_xlfn.XLOOKUP(A39,'Product list'!$B$3:$B$16,'Product list'!$D$3:$D$16))) -> 0 | C39: =IF(B39=0, 0,(_xlfn.XLOOKUP(B39,'Product list'!$D$3:$D$15,'Product list'!$E$3:$E$15))) -> 0 | E39: =+C39*D39 -> 0 | F39: =_xlfn.TEXTJOIN(" ",TRUE,G39, I39,H39,J39) | P39: =_xlfn.TEXTJOIN(" ",TRUE,Q39, R39,S39,T39)
B40: =IF(A40=0, 0,(_xlfn.XLOOKUP(A40,'Product list'!$B$3:$B$16,'Product list'!$D$3:$D$16))) -> 0 | C40: =IF(B40=0, 0,(_xlfn.XLOOKUP(B40,'Product list'!$D$3:$D$15,'Product list'!$E$3:$E$15))) -> 0 | E40: =+C40*D40 -> 0 | F40: =_xlfn.TEXTJOIN(" ",TRUE,G40, I40,H40,J40) | P40: =_xlfn.TEXTJOIN(" ",TRUE,Q40, R40,S40,T40)
B41: =IF(A41=0, 0,(_xlfn.XLOOKUP(A41,'Product list'!$B$3:$B$16,'Product list'!$D$3:$D$16))) -> 0 | C41: =IF(B41=0, 0,(_xlfn.XLOOKUP(B41,'Product list'!$D$3:$D$15,'Product list'!$E$3:$E$15))) -> 0 | E41: =+C41*D41 -> 0 | F41: =_xlfn.TEXTJOIN(" ",TRUE,G41, I41,H41,J41) | P41: =_xlfn.TEXTJOIN(" ",TRUE,Q41, R41,S41,T41)
B42: =IF(A42=0, 0,(_xlfn.XLOOKUP(A42,'Product list'!$B$3:$B$16,'Product list'!$D$3:$D$16))) -> 0 | C42: =IF(B42=0, 0,(_xlfn.XLOOKUP(B42,'Product list'!$D$3:$D$15,'Product list'!$E$3:$E$15))) -> 0 | E42: =+C42*D42 -> 0 | F42: =_xlfn.TEXTJOIN(" ",TRUE,G42, I42,H42,J42) | P42: =_xlfn.TEXTJOIN(" ",TRUE,Q42, R42,S42,T42)
B43: =IF(A43=0, 0,(_xlfn.XLOOKUP(A43,'Product list'!$B$3:$B$16,'Product list'!$D$3:$D$16))) -> 0 | C43: =IF(B43=0, 0,(_xlfn.XLOOKUP(B43,'Product list'!$D$3:$D$15,'Product list'!$E$3:$E$15))) -> 0 | E43: =+C43*D43 -> 0 | F43: =_xlfn.TEXTJOIN(" ",TRUE,G43, I43,H43,J43) | P43: =_xlfn.TEXTJOIN(" ",TRUE,Q43, R43,S43,T43)
B44: =IF(A44=0, 0,(_xlfn.XLOOKUP(A44,'Product list'!$B$3:$B$16,'Product list'!$D$3:$D$16))) -> 0 | C44: =IF(B44=0, 0,(_xlfn.XLOOKUP(B44,'Product list'!$D$3:$D$15,'Product list'!$E$3:$E$15))) -> 0 | E44: =+C44*D44 -> 0 | F44: =_xlfn.TEXTJOIN(" ",TRUE,G44, I44,H44,J44) | P44: =_xlfn.TEXTJOIN(" ",TRUE,Q44, R44,S44,T44)
... B69: =IF(A69=0, 0,(_xlfn.XLOOKUP(A69,'Product list'!$B$3:$B$16,'Product list'!$D$3:$D$16))) -> 0 | C69: =IF(B69=0, 0,(_xlfn.XLOOKUP(B69,'Product list'!$D$3:$D$15,'Product list'!$E$3:$E$15))) -> 0 | E69: =+C69*D69 -> 0 | F69: =_xlfn.TEXTJOIN(" ",TRUE,G69, I69,H69,J69) | P69: =_xlfn.TEXTJOIN(" ",TRUE,Q69, R69,S69,T69)
B70: =IF(A70=0, 0,(LOOKUP(A70,'Product list'!$B$2:$D$15,'Product list'!$D$2:$D$15))) -> 0 | C70: =IF(B70=0, 0,(_xlfn.XLOOKUP(B70,'Product list'!$D$3:$D$15,'Product list'!$E$3:$E$15))) -> 0 | E70: =+C70*D70 -> 0 | F70: =_xlfn.TEXTJOIN(" ",TRUE,G70, I70,H70,J70) | P70: =_xlfn.TEXTJOIN(" ",TRUE,Q70, R70,S70,T70)
B71: =IF(A71=0, 0,(LOOKUP(A71,'Product list'!$B$2:$D$15,'Product list'!$D$2:$D$15))) -> 0 | C71: =IF(B71=0, 0,(_xlfn.XLOOKUP(B71,'Product list'!$D$3:$D$15,'Product list'!$E$3:$E$15))) -> 0 | E71: =+C71*D71 -> 0 | F71: =_xlfn.TEXTJOIN(" ",TRUE,G71, I71,H71,J71) | P71: =_xlfn.TEXTJOIN(" ",TRUE,Q71, R71,S71,T71)
B72: =IF(A72=0, 0,(LOOKUP(A72,'Product list'!$B$2:$D$15,'Product list'!$D$2:$D$15))) -> 0 | C72: =IF(B72=0, 0,(_xlfn.XLOOKUP(B72,'Product list'!$D$3:$D$15,'Product list'!$E$3:$E$15))) -> 0 | E72: =+C72*D72 -> 0 | F72: =_xlfn.TEXTJOIN(" ",TRUE,G72, I72,H72,J72) | P72: =_xlfn.TEXTJOIN(" ",TRUE,Q72, R72,S72,T72)
B73: =IF(A73=0, 0,(LOOKUP(A73,'Product list'!$B$2:$D$15,'Product list'!$D$2:$D$15))) -> 0 | C73: =IF(B73=0, 0,(_xlfn.XLOOKUP(B73,'Product list'!$D$3:$D$15,'Product list'!$E$3:$E$15))) -> 0 | E73: =+C73*D73 -> 0 | F73: =_xlfn.TEXTJOIN(" ",TRUE,G73, I73,H73,J73) | P73: =_xlfn.TEXTJOIN(" ",TRUE,Q73, R73,S73,T73)
B74: =IF(A74=0, 0,(LOOKUP(A74,'Product list'!$B$2:$D$15,'Product list'!$D$2:$D$15))) -> 0 | C74: =IF(B74=0, 0,(_xlfn.XLOOKUP(B74,'Product list'!$D$3:$D$15,'Product list'!$E$3:$E$15))) -> 0 | E74: =+C74*D74 -> 0 | F74: =_xlfn.TEXTJOIN(" ",TRUE,G74, I74,H74,J74) | P74: =_xlfn.TEXTJOIN(" ",TRUE,Q74, R74,S74,T74)
B75: =IF(A75=0, 0,(LOOKUP(A75,'Product list'!$B$2:$D$15,'Product list'!$D$2:$D$15))) -> 0 | C75: =IF(B75=0, 0,(_xlfn.XLOOKUP(B75,'Product list'!$D$3:$D$15,'Product list'!$E$3:$E$15))) -> 0 | E75: =+C75*D75 -> 0 | F75: =_xlfn.TEXTJOIN(" ",TRUE,G75, I75,H75,J75) | P75: =_xlfn.TEXTJOIN(" ",TRUE,Q75, R75,S75,T75)
...

Sheet Serial
A1: Product Serial* | B1: FirstName* | C1: LastName* | D1: MiddleName | E1: Suffix | F1: Birthdate* | G1: Gender* | H1: Civil Status | I1: Mobile* | J1: Email* | K1: Street* | L1: Barangay | M1: City* | N1: Province* | O1: Religion
B2: =+'2.) E-DATA LISTING'!G23 -> 0 | C2: =+'2.) E-DATA LISTING'!H23 -> 0 | D2: =+'2.) E-DATA LISTING'!I23 -> 0 | E2: =+'2.) E-DATA LISTING'!J23 -> 0 | F2: =+'2.) E-DATA LISTING'!K23 -> 0 | G2: =+'2.) E-DATA LISTING'!L23 -> 0 | H2: =+'2.) E-DATA LISTING'!M23 -> 0 | I2: =+'2.) E-DATA LISTING'!N23 -> 0 | ... O2: =+'2.) E-DATA LISTING'!T23 -> 0
B3: =+'2.) E-DATA LISTING'!G24 -> 0 | C3: =+'2.) E-DATA LISTING'!H24 -> 0 | D3: =+'2.) E-DATA LISTING'!I24 -> 0 | E3: =+'2.) E-DATA LISTING'!J24 -> 0 | F3: =+'2.) E-DATA LISTING'!K24 -> 0 | G3: =+'2.) E-DATA LISTING'!L24 -> 0 | H3: =+'2.) E-DATA LISTING'!M24 -> 0 | I3: =+'2.) E-DATA LISTING'!N24 -> 0 | ... O3: =+'2.) E-DATA LISTING'!T24 -> 0
B4: =+'2.) E-DATA LISTING'!G25 -> 0 | C4: =+'2.) E-DATA LISTING'!H25 -> 0 | D4: =+'2.) E-DATA LISTING'!I25 -> 0 | E4: =+'2.) E-DATA LISTING'!J25 -> 0 | F4: =+'2.) E-DATA LISTING'!K25 -> 0 | G4: =+'2.) E-DATA LISTING'!L25 -> 0 | H4: =+'2.) E-DATA LISTING'!M25 -> 0 | I4: =+'2.) E-DATA LISTING'!N25 -> 0 | ... O4: =+'2.) E-DATA LISTING'!T25 -> 0
B5: =+'2.) E-DATA LISTING'!G26 -> 0 | C5: =+'2.) E-DATA LISTING'!H26 -> 0 | D5: =+'2.) E-DATA LISTING'!I26 -> 0 | E5: =+'2.) E-DATA LISTING'!J26 -> 0 | F5: =+'2.) E-DATA LISTING'!K26 -> 0 | G5: =+'2.) E-DATA LISTING'!L26 -> 0 | H5: =+'2.) E-DATA LISTING'!M26 -> 0 | I5: =+'2.) E-DATA LISTING'!N26 -> 0 | ... O5: =+'2.) E-DATA LISTING'!T26 -> 0
B6: =+'2.) E-DATA LISTING'!G27 -> 0 | C6: =+'2.) E-DATA LISTING'!H27 -> 0 | D6: =+'2.) E-DATA LISTING'!I27 -> 0 | E6: =+'2.) E-DATA LISTING'!J27 -> 0 | F6: =+'2.) E-DATA LISTING'!K27 -> 0 | G6: =+'2.) E-DATA LISTING'!L27 -> 0 | H6: =+'2.) E-DATA LISTING'!M27 -> 0 | I6: =+'2.) E-DATA LISTING'!N27 -> 0 | ... O6: =+'2.) E-DATA LISTING'!T27 -> 0
B7: =+'2.) E-DATA LISTING'!G28 -> 0 | C7: =+'2.) E-DATA LISTING'!H28 -> 0 | D7: =+'2.) E-DATA LISTING'!I28 -> 0 | E7: =+'2.) E-DATA LISTING'!J28 -> 0 | F7: =+'2.) E-DATA LISTING'!K28 -> 0 | G7: =+'2.) E-DATA LISTING'!L28 -> 0 | H7: =+'2.) E-DATA LISTING'!M28 -> 0 | I7: =+'2.) E-DATA LISTING'!N28 -> 0 | ... O7: =+'2.) E-DATA LISTING'!T28 -> 0
B8: =+'2.) E-DATA LISTING'!G29 -> 0 | C8: =+'2.) E-DATA LISTING'!H29 -> 0 | D8: =+'2.) E-DATA LISTING'!I29 -> 0 | E8: =+'2.) E-DATA LISTING'!J29 -> 0 | F8: =+'2.) E-DATA LISTING'!K29 -> 0 | G8: =+'2.) E-DATA LISTING'!L29 -> 0 | H8: =+'2.) E-DATA LISTING'!M29 -> 0 | I8: =+'2.) E-DATA LISTING'!N29 -> 0 | ... O8: =+'2.) E-DATA LISTING'!T29 -> 0
B9: =+'2.) E-DATA LISTING'!G30 -> 0 | C9: =+'2.) E-DATA LISTING'!H30 -> 0 | D9: =+'2.) E-DATA LISTING'!I30 -> 0 | E9: =+'2.) E-DATA LISTING'!J30 -> 0 | F9: =+'2.) E-DATA LISTING'!K30 -> 0 | G9: =+'2.) E-DATA LISTING'!L30 -> 0 | H9: =+'2.) E-DATA LISTING'!M30 -> 0 | I9: =+'2.) E-DATA LISTING'!N30 -> 0 | ... O9: =+'2.) E-DATA LISTING'!T30 -> 0
B10: =+'2.) E-DATA LISTING'!G31 -> 0 | C10: =+'2.) E-DATA LISTING'!H31 -> 0 | D10: =+'2.) E-DATA LISTING'!I31 -> 0 | E10: =+'2.) E-DATA LISTING'!J31 -> 0 | F10: =+'2.) E-DATA LISTING'!K31 -> 0 | G10: =+'2.) E-DATA LISTING'!L31 -> 0 | H10: =+'2.) E-DATA LISTING'!M31 -> 0 | I10: =+'2.) E-DATA LISTING'!N31 -> 0 | ... O10: =+'2.) E-DATA LISTING'!T31 -> 0
B11: =+'2.) E-DATA LISTING'!G32 -> 0 | C11: =+'2.) E-DATA LISTING'!H32 -> 0 | D11: =+'2.) E-DATA LISTING'!I32 -> 0 | E11: =+'2.) E-DATA LISTING'!J32 -> 0 | F11: =+'2.) E-DATA LISTING'!K32 -> 0 | G11: =+'2.) E-DATA LISTING'!L32 -> 0 | H11: =+'2.) E-DATA LISTING'!M32 -> 0 | I11: =+'2.) E-DATA LISTING'!N32 -> 0 | ... O11: =+'2.) E-DATA LISTING'!T32 -> 0
B12: =+'2.) E-DATA LISTING'!G33 -> 0 | C12: =+'2.) E-DATA LISTING'!H33 -> 0 | D12: =+'2.) E-DATA LISTING'!I33 -> 0 | E12: =+'2.) E-DATA LISTING'!J33 -> 0 | F12: =+'2.) E-DATA LISTING'!K33 -> 0 | G12: =+'2.) E-DATA LISTING'!L33 -> 0 | H12: =+'2.) E-DATA LISTING'!M33 -> 0 | I12: =+'2.) E-DATA LISTING'!N33 -> 0 | ... O12: =+'2.) E-DATA LISTING'!T33 -> 0
B13: =+'2.) E-DATA LISTING'!G34 -> 0 | C13: =+'2.) E-DATA LISTING'!H34 -> 0 | D13: =+'2.) E-DATA LISTING'!I34 -> 0 | E13: =+'2.) E-DATA LISTING'!J34 -> 0 | F13: =+'2.) E-DATA LISTING'!K34 -> 0 | G13: =+'2.) E-DATA LISTING'!L34 -> 0 | H13: =+'2.) E-DATA LISTING'!M34 -> 0 | I13: =+'2.) E-DATA LISTING'!N34 -> 0 | ... O13: =+'2.) E-DATA LISTING'!T34 -> 0
... B24: =+'2.) E-DATA LISTING'!G45 -> 0 | C24: =+'2.) E-DATA LISTING'!H45 -> 0 | D24: =+'2.) E-DATA LISTING'!I45 -> 0 | E24: =+'2.) E-DATA LISTING'!J45 -> 0 | F24: =+'2.) E-DATA LISTING'!K45 -> 0 | G24: =+'2.) E-DATA LISTING'!L45 -> 0 | H24: =+'2.) E-DATA LISTING'!M45 -> 0 | I24: =+'2.) E-DATA LISTING'!N45 -> 0 | ... O24: =+'2.) E-DATA LISTING'!T45 -> 0

Sheet ER SERIES
C2: RAUL C. ALCAZAR
C3: 0917 8192590 (02)8463 4771
C4: raul@alcazar.com.ph
B8: ER SERIES FOR ACCIDENTS, VIRAL & BACTERIAL | C8: FEATURES | D8: PRODUCT | E8: PRODUCT CODE W/O TOP 6 | F8: PRODUCT CODE W/ TOP 6 | G8: PRICE | H8: Top 6 hospitals | I8: Maximum Limit | J8: Age eligibility | K8: Room Accomodation | L8: Validity | M8: Coverage | N8: Doctor's Professional Fees | O8: Laboratory & Diagnosic Procedures | P8: Required Medicines | Q8: Room Accomodation if required | R8: Surgery & surgeon's fees if medically required | S8: Use of operating room, recovery room, ICU as medically necessary | T8: Special modalities of treatment | U8: Cash Allowance | V8: Telemedicine | W8: Life Insurance
C9: One time payment, no monthly | D9: ER CARE ALL IN 100 Adults | E9: a | F9: b | G9: 1750 | H9: add: P700.00 | I9: 100000 | J9: 18 -64 years old | K9: Regular Private | L9: 1 year 1 time use | M9: ER Treatment and Hospital Confinement due to Accident, Viral, Bacterial & specific conditions | N9: Covered | O9: Covered | P9: Covered | Q9: Covered | R9: Covered | S9: Covered | T9: 5000 | U9: One Time Hospital cash allowance of Php 1,000 when confined | V9: x | W9: x
C10: No membership restrictions | D10: ER CARE ALL IN 80 Adults | E10: c | F10: d | G10: 1350 | H10: add: P700.00 | I10: 80000 | J10: 18 -64 years old | K10: Semi-private | L10: 1 year 1 time use | M10: ER Treatment and Hospital Confinement due to Accident, Viral, Bacterial & specific conditions | N10: Covered | O10: Covered | P10: Covered | Q10: Covered | R10: Covered | S10: Covered | T10: 5000 | U10: One Time Hospital cash allowance of Php 1,000 when confined | V10: x | W10: x
C11: Health eVoucher generated within 24 hours | D11: ER CARE ALL IN 60 Kids | E11: e | F11: f | G11: 3150 | H11: add: P2,000.00 | I11: 60000 | J11: 1 -17 years old | K11: Ward | L11: 1 year 1 time use | M11: ER Treatment and Hospital Confinement due to Accident, Viral, Bacterial & specific conditions | N11: Covered | O11: Covered | P11: Covered | Q11: Covered | R11: Covered | S11: Covered | T11: 5000 | U11: x | V11: 1-year unlimited access to telemedicine/remote medical consultation even if card has been used for ER | W11: x
C12: All digital, paperless transactions | D12: ER CARE ALL IN 80 Kids | E12: g | F12: h | G12: 4150 | H12: add: P2,000.00 | I12: 80000 | J12: 1 -17 years old | K12: Semi-private | L12: 1 year 1 time use | M12: ER Treatment and Hospital Confinement due to Accident, Viral, Bacterial & specific conditions | N12: Covered | O12: Covered | P12: Covered | Q12: Covered | R12: Covered | S12: Covered | T12: 5000 | U12: x | V12: 1-year unlimited access to telemedicine/remote medical consultation even if card has been used for ER | W12: x
C13: Access to 2,000+ accredited hospitals nationwide | D13: ER CARE ALL IN 100 Kids | E13: i | F13: j | G13: 5150 | H13: add: P2,000.00 | I13: 100000 | J13: 1 -17 years old | K13: Regular Private | L13: 1 year 1 time use | M13: ER Treatment and Hospital Confinement due to Accident, Viral, Bacterial & specific conditions | N13: Covered | O13: Covered | P13: Covered | Q13: Covered | R13: Covered | S13: Covered | T13: 5000 | U13: x | V13: 1-year unlimited access to telemedicine/remote medical consultation even if card has been used for ER | W13: x
H15: Top 6 Hospitals:
H16: St. Luke's QC
H17: St. Luke's Global
H18: Makati Medical Center
H19: Asian Hospital
H20: The Medical City
H21: Cardinal Santos Medical Center

Sheet ER Series Coverage
C4: ER Care All-In covers diseases that include, but are not limited to:
C5: Acute Bronchitis
C6: Acute gastroenteritis with dehydration
C7: Acute tonsillopharyngitis with moderate dehydration
C8: Acute Sinusitis
C9: Acute tonsillopharyngitis
C10: Acute Upper Respiratory Tract Infection
C11: Amoebiasis
C12: Cellulitis
C13: Dengue Fever
C14: Acute Pneumonia
C15: Typhoid Fever
... C55: · accidents that are secondary to or contracted due to degenerative diseases such as Alzheimer’s Disease and Parkinson’s Disease.

Sheet MedConsult
C2: RAUL C. ALCAZAR
C3: 0917 8192590 (02)8463 4771
C4: raul@alcazar.com.ph
C9: PRODUCT | D9: PRODUCT CODE | E9: PRICE | F9: VALIDITY | G9: Age eligibility | H9: Face to face Medical Consultations | I9: Telemedicine over the Phone | J9: Dental
C10: Medconsult Adults | D10: k | E10: 2500 | F10: 1 year | G10: 18 - 64 years old | H10: 4 | I10: unlimited | J10: Covered (specific conditions)
C11: Medconsult Kids | D11: l | E11: 3000 | F11: 1 year | G11: 1 -17 years old | H11: 4 | I11: unlimited | J11: Covered (specific conditions)
C13: Medconsult Senior | D13: m | E13: 3500 | F13: 1 year | G13: 65 years old & above | H13: 4 | I13: unlimited | J13: Covered (specific conditions)

Sheet Specialized products
C2: RAUL C. ALCAZAR
C3: 0917 8192590 (02)8463 4771
C4: raul@alcazar.com.ph
C5: hmocard.ph
C9: PRODUCT | D9: PRODCUT NUMBER | E9: PRICE | F9: Maximum Limit | G9: Age eligibility | H9: Room Accomodation | I9: Top 6 hospitals | J9: Validity | K9: Coverage | L9: Doctor's Professional Fees | M9: Laboratory & Diagnostic Procedures | N9: Required Medicines | O9: Room Accomodation if required | P9: Surgery & surgeon's fees if medically required | Q9: Use of operating room, recovery room, ICU as medically necessary | R9: Special modalities of treatment | S9: One time cash allowance of Php 1000 if confined | T9: Telemedicine | U9: Life Insurance
C11: K12 | D11: 25 | E11: 1000 | F11: 50000 | G11: 1-20 | H11: Ward | I11: yes | J11: 1 year 1 time use | K11: Dengue Fever, Leptospirosis | L11: Covered | M11: Covered | N11: Covered | O11: Covered | P11: Covered | Q11: x | R11: 5000 | S11: x | T11: x | U11: x
C12: DENGUE FLEX | D12: 1 | E12: 500 | F12: 50000 | G12: 21 - 70 | H12: Ward | I12: yes | J12: 1 year 1 time use | K12: Dengue Fever, Leptospirosis | L12: Covered | M12: Covered | N12: Covered | O12: Covered | P12: Covered | Q12: x | R12: 5000 | S12: x | T12: x | U12: x

Sheet Product list (3)
B2: PRODUCT CODE | C2: SKU | D2: Plan type | E2: Membership fee | F2: DESCRIPTION
B3: a | C3: ERCAI100A | D3: ER Care All-In 100 Adults | E3: 1750
B4: b | C4: ERCAI100A-P | D4: ER Care All-In 100 Adults | E4: 2450
B5: c | C5: ERCAI80A | D5: ER Care All-In 80 Adults Semi Private | E5: 1350
B6: d | C6: ERCAI80A-P | D6: ER Care All-In 80 Adults | E6: 2050
B7: e | C7: ERCAI60K | D7: ER Care All-In 60 Kids Ward | E7: 3150
B8: f | C8: ERCAIK60-P | D8: ER Care All-In 60 Kids Ward | E8: 5150
B9: g | C9: ERCAI80K | D9: ER Care All-In 80 Kids Semi Private | E9: 4150
B10: h | C10: ERCAI80K-P | D10: ER Care All-In 80 Kids Semi Private | E10: 6150
B11: i | C11: ERCAI100K | D11: ER Care All-In 100 Kids Regular Private | E11: 5150
B12: j | C12: ERCAI100K-P | D12: ER Care All-In 100 Kids Regular Private | E12: 7150
B13: k | C13: MCA | D13: MedConsult Adults | E13: 2500
B14: l | C14: MCK | D14: MedConsult Kids | E14: 3000
B15: m | C15: MCS | D15: MedConsult Seniors | E15: 3500
B16: n | D16: end | E16: 0

Sheet Product list
B2: PRODUCT CODE | C2: SKU | D2: Plan type | E2: Membership fee | F2: DESCRIPTION
A3: 1 | B3: a | C3: ERCAI100A | D3: ER Care All-In 100 Adults Regular Private | E3: 1750
A4: 2 | B4: b | C4: ERCAI100A-P | D4: ER Care All-In 100 Adults Regular Private (w/ top 6 access) | E4: 2450
A5: 3 | B5: c | C5: ERCAI80A | D5: ER Care All-In 80 Adults Semi Private | E5: 1350
A6: 4 | B6: d | C6: ERCAI80A-P | D6: ER Care All-In 80 Adults Semi Private (w/ top 6 access) | E6: 2050
A7: 5 | B7: e | C7: ERCAI60K | D7: ER Care All-In 60 Kids Ward | E7: 3150
A8: 6 | B8: f | C8: ERCAIK60-P | D8: ER Care All-In 60 Kids Ward (w/ top 6 access) | E8: 5150
A9: 7 | B9: g | C9: ERCAI80K | D9: ER Care All-In 80 Kids Semi Private | E9: 4150
A10: 8 | B10: h | C10: ERCAI80K-P | D10: ER Care All-In 80 Kids Semi Private (w/ top 6 access) | E10: 6150
A11: 9 | B11: i | C11: ERCAI100K | D11: ER Care All-In 100 Kids Regular Private | E11: 5150
A12: 10 | B12: j | C12: ERCAI100K-P | D12: ER Care All-In 100 Kids Regular Private (w/ top 6 access) | E12: 7150
A13: 11 | B13: k | C13: MCA | D13: MedConsult Adults | E13: 2500
A14: 12 | B14: l | C14: MCK | D14: MedConsult Kids | E14: 3000
A15: 13 | B15: m | C15: MCS | D15: MedConsult Seniors | E15: 3500
B16: n | C16: 0 | D16: end | E16: 0

Sheet General Exclusions
C3: General Exclusions
C5: 1. Viral and bacterial illnesses that are complications of or contracted due to a compromised or impaired immune system. The following are examples but not limited to:
C6: Patients with malnutrition
C7: Patients with uncontrolled diabetes mellitus
C8: Recipients of organ transplant
C9: Patients with hematologic malignancies
C10: Patients undergoing radiation, chemotherapy and immunosuppressive therapy
C11: Patients with HIV / AIDS infection
C12: Patients with foreign objects/implants such as venous or urinary catheters.
C13: Patients with auto-immune diseases such as Systemic Lupus Erythematous (SLE), Rheumatoid Arthritis, Multiple Sclerosis, Guillain-Barre syndrome
C14: 2. Viral infections like:
C15: Hepatitis B, C, D & E
... C36: 22. Valvular Heart Disease and/or Rheumatic Heart Disease.

Sheet PI
B7: AUTO GENERATE DO NOT FILL UP
B9: PROFORMA INVOICE
B11: ITEM | C11: SKU | D11: PRICE | E11: UNIT | F11: SUBTOTAL
B12: {=_xlfn.UNIQUE('1.) CLIENT INFORMATION SHEET'!B17:B30)} -> ER Care All-In 80 Adults Semi Private | C12: =IF(B12=0, ,(_xlfn.XLOOKUP(B12,'Product list'!$D$2:$D$16,'Product list'!$C$2:$C$16))) -> ERCAI80A | D12: =IF(B12=0, ,(_xlfn.XLOOKUP(B12,'Product list'!$D$2:$D$16,'Product list'!$E$2:$E$16))) -> 1350 | E12: =IF(B12=0, ,(SUMIF('2.) E-DATA LISTING'!$B$7:$D$200,B12,'2.) E-DATA LISTING'!$D$7:D200))) -> 1 | F12: =+D12*E12 -> 1350
B13: MedConsult Adults | C13: =IF(B13=0, ,(_xlfn.XLOOKUP(B13,'Product list'!$D$2:$D$16,'Product list'!$C$2:$C$16))) -> MCA | D13: =IF(B13=0, ,(_xlfn.XLOOKUP(B13,'Product list'!$D$2:$D$16,'Product list'!$E$2:$E$16))) -> 2500 | E13: =IF(B13=0, ,(SUMIF('2.) E-DATA LISTING'!$B$7:$D$200,B13,'2.) E-DATA LISTING'!$D$7:D201))) -> 1 | F13: =+D13*E13 -> 2500
B14: 0 | C14: =IF(B14=0, ,(_xlfn.XLOOKUP(B14,'Product list'!$D$2:$D$16,'Product list'!$C$2:$C$16))) -> 0 | D14: =IF(B14=0, ,(_xlfn.XLOOKUP(B14,'Product list'!$D$2:$D$16,'Product list'!$E$2:$E$16))) -> 0 | E14: =IF(B14=0, ,(SUMIF('2.) E-DATA LISTING'!$B$7:$D$200,B14,'2.) E-DATA LISTING'!$D$7:D202))) -> 0 | F14: =+D14*E14 -> 0
B15: 0 | C15: =IF(B15=0, ,(_xlfn.XLOOKUP(B15,'Product list'!$D$2:$D$16,'Product list'!$C$2:$C$16))) -> 0 | D15: =IF(B15=0, ,(_xlfn.XLOOKUP(B15,'Product list'!$D$2:$D$16,'Product list'!$E$2:$E$16))) -> 0 | E15: =IF(B15=0, ,(SUMIF('2.) E-DATA LISTING'!$B$7:$D$200,B15,'2.) E-DATA LISTING'!$D$7:D203))) -> 0 | F15: =+D15*E15 -> 0
C16: =IF(B16=0, ,(_xlfn.XLOOKUP(B16,'Product list'!$D$2:$D$16,'Product list'!$C$2:$C$16))) -> 0 | D16: =IF(B16=0, ,(_xlfn.XLOOKUP(B16,'Product list'!$D$2:$D$16,'Product list'!$E$2:$E$16))) -> 0 | E16: =IF(B16=0, ,(SUMIF('2.) E-DATA LISTING'!$B$7:$D$200,B16,'2.) E-DATA LISTING'!$D$7:D204))) -> 0 | F16: =+D16*E16 -> 0
C17: =IF(B17=0, ,(_xlfn.XLOOKUP(B17,'Product list'!$D$2:$D$16,'Product list'!$C$2:$C$16))) -> 0 | D17: =IF(B17=0, ,(_xlfn.XLOOKUP(B17,'Product list'!$D$2:$D$16,'Product list'!$E$2:$E$16))) -> 0 | E17: =IF(B17=0, ,(SUMIF('2.) E-DATA LISTING'!$B$7:$D$200,B17,'2.) E-DATA LISTING'!$D$7:D205))) -> 0 | F17: =+D17*E17 -> 0
C18: =IF(B18=0, ,(_xlfn.XLOOKUP(B18,'Product list'!$D$2:$D$16,'Product list'!$C$2:$C$16))) -> 0 | D18: =IF(B18=0, ,(_xlfn.XLOOKUP(B18,'Product list'!$D$2:$D$16,'Product list'!$E$2:$E$16))) -> 0 | E18: =IF(B18=0, ,(SUMIF('2.) E-DATA LISTING'!$B$7:$D$200,B18,'2.) E-DATA LISTING'!$D$7:D206))) -> 0 | F18: =+D18*E18 -> 0
C19: =IF(B19=0, ,(_xlfn.XLOOKUP(B19,'Product list'!$D$2:$D$16,'Product list'!$C$2:$C$16))) -> 0 | D19: =IF(B19=0, ,(_xlfn.XLOOKUP(B19,'Product list'!$D$2:$D$16,'Product list'!$E$2:$E$16))) -> 0 | E19: =IF(B19=0, ,(SUMIF('2.) E-DATA LISTING'!$B$7:$D$200,B19,'2.) E-DATA LISTING'!$D$7:D207))) -> 0 | F19: =+D19*E19 -> 0
C20: =IF(B20=0, ,(_xlfn.XLOOKUP(B20,'Product list'!$D$2:$D$16,'Product list'!$C$2:$C$16))) -> 0 | D20: =IF(B20=0, ,(_xlfn.XLOOKUP(B20,'Product list'!$D$2:$D$16,'Product list'!$E$2:$E$16))) -> 0 | E20: =IF(B20=0, ,(SUMIF('2.) E-DATA LISTING'!$B$7:$D$200,B20,'2.) E-DATA LISTING'!$D$7:D208))) -> 0 | F20: =+D20*E20 -> 0
C21: =IF(B21=0, ,(_xlfn.XLOOKUP(B21,'Product list'!$D$2:$D$16,'Product list'!$C$2:$C$16))) -> 0 | D21: =IF(B21=0, ,(_xlfn.XLOOKUP(B21,'Product list'!$D$2:$D$16,'Product list'!$E$2:$E$16))) -> 0 | E21: =IF(B21=0, ,(SUMIF('2.) E-DATA LISTING'!$B$7:$D$200,B21,'2.) E-DATA LISTING'!$D$7:D209))) -> 0 | F21: =+D21*E21 -> 0
C22: =IF(B22=0, ,(_xlfn.XLOOKUP(B22,'Product list'!$D$2:$D$16,'Product list'!$C$2:$C$16))) -> 0 | D22: =IF(B22=0, ,(_xlfn.XLOOKUP(B22,'Product list'!$D$2:$D$16,'Product list'!$E$2:$E$16))) -> 0 | E22: =IF(B22=0, ,(SUMIF('2.) E-DATA LISTING'!$B$7:$D$200,B22,'2.) E-DATA LISTING'!$D$7:D210))) -> 0 | F22: =+D22*E22 -> 0
C23: =IF(B23=0, ,(_xlfn.XLOOKUP(B23,'Product list'!$D$2:$D$16,'Product list'!$C$2:$C$16))) -> 0 | D23: =IF(B23=0, ,(_xlfn.XLOOKUP(B23,'Product list'!$D$2:$D$16,'Product list'!$E$2:$E$16))) -> 0 | E23: =IF(B23=0, ,(SUMIF('2.) E-DATA LISTING'!$B$7:$D$200,B23,'2.) E-DATA LISTING'!$D$7:D211))) -> 0 | F23: =+D23*E23 -> 0
C24: =IF(B24=0, ,(_xlfn.XLOOKUP(B24,'Product list'!$D$2:$D$16,'Product list'!$C$2:$C$16))) -> 0 | D24: =IF(B24=0, ,(_xlfn.XLOOKUP(B24,'Product list'!$D$2:$D$16,'Product list'!$E$2:$E$16))) -> 0 | E24: =IF(B24=0, ,(SUMIF('2.) E-DATA LISTING'!$B$7:$D$200,B24,'2.) E-DATA LISTING'!$D$7:D212))) -> 0 | F24: =+D24*E24 -> 0
C25: =IF(B25=0, ,(_xlfn.XLOOKUP(B25,'Product list'!$D$2:$D$16,'Product list'!$C$2:$C$16))) -> 0 | D25: =IF(B25=0, ,(_xlfn.XLOOKUP(B25,'Product list'!$D$2:$D$16,'Product list'!$E$2:$E$16))) -> 0 | E25: =IF(B25=0, ,(SUMIF('2.) E-DATA LISTING'!$B$7:$D$200,B25,'2.) E-DATA LISTING'!$D$7:D213))) -> 0 | F25: =+D25*E25 -> 0
C26: =IF(B26=0, ,(_xlfn.XLOOKUP(B26,'Product list'!$D$2:$D$16,'Product list'!$C$2:$C$16))) -> 0 | D26: =IF(B26=0, ,(_xlfn.XLOOKUP(B26,'Product list'!$D$2:$D$16,'Product list'!$E$2:$E$16))) -> 0 | E26: =IF(B26=0, ,(SUMIF('2.) E-DATA LISTING'!$B$7:$D$200,B26,'2.) E-DATA LISTING'!$D$7:D224))) -> 0 | F26: =+D26*E26 -> 0
E27: TOTAL | F27: =SUM(F12:F26) -> 3850
E28: Net of VAT | F28: =+F27/1.12 -> 3437.5
E29: 12% VAT | F29: =+F27-F28 -> 412.5
E31: Subtotal | F31: =+F27-F30 -> 3850
E32: Gand Total | F32: =+F28+F29 -> 3850
B34: BILL TO:
B36: ='1.) CLIENT INFORMATION SHEET'!C3 -> 0
B37: =+'1.) CLIENT INFORMATION SHEET'!C4 -> 0
B38: =+'1.) CLIENT INFORMATION SHEET'!C9 -> 0
B39: ='1.) CLIENT INFORMATION SHEET'!C11 -> 0
B40: ="TIN: " & +'1.) CLIENT INFORMATION SHEET'!C14 -> TIN:

Sheet Billing  tax
C5: 45994
C9: BILLING INVOICE
C11: ITEM | D11: SKU | E11: PRICE | F11: UNIT | G11: SUBTOTAL
C12: {=_xlfn.UNIQUE('1.) CLIENT INFORMATION SHEET'!B17:B30)} -> ER Care All-In 80 Adults Semi Private | D12: =IF(C12=0, ,(_xlfn.XLOOKUP(C12,'Product list'!$D$2:$D$15,'Product list'!$C$2:$C$15))) -> ERCAI80A | E12: =IF(C12=0, ,(_xlfn.XLOOKUP(C12,'Product list'!$D$2:$D$15,'Product list'!$E$2:$E$15))) -> 1350 | F12: =IF(C12=0, ,(SUMIF('2.) E-DATA LISTING'!$B$7:$D$200,C12,'2.) E-DATA LISTING'!$D$7:D200))) -> 1 | G12: =+E12*F12 -> 1350
C13: MedConsult Adults | D13: =IF(C13=0, ,(_xlfn.XLOOKUP(C13,'Product list'!$D$2:$D$15,'Product list'!$C$2:$C$15))) -> MCA | E13: =IF(C13=0, ,(_xlfn.XLOOKUP(C13,'Product list'!$D$2:$D$15,'Product list'!$E$2:$E$15))) -> 2500 | F13: =IF(C13=0, ,(SUMIF('2.) E-DATA LISTING'!$B$7:$D$200,C13,'2.) E-DATA LISTING'!$D$7:D201))) -> 1 | G13: =+E13*F13 -> 2500
C14: 0 | D14: =IF(C14=0, ,(_xlfn.XLOOKUP(C14,'Product list'!$D$2:$D$15,'Product list'!$C$2:$C$15))) -> 0 | E14: =IF(C14=0, ,(_xlfn.XLOOKUP(C14,'Product list'!$D$2:$D$15,'Product list'!$E$2:$E$15))) -> 0 | F14: =IF(C14=0, ,(SUMIF('2.) E-DATA LISTING'!$B$7:$D$200,C14,'2.) E-DATA LISTING'!$D$7:D202))) -> 0 | G14: =+E14*F14 -> 0
C15: 0 | D15: =IF(C15=0, ,(_xlfn.XLOOKUP(C15,'Product list'!$D$2:$D$15,'Product list'!$C$2:$C$15))) -> 0 | E15: =IF(C15=0, ,(_xlfn.XLOOKUP(C15,'Product list'!$D$2:$D$15,'Product list'!$E$2:$E$15))) -> 0 | F15: =IF(C15=0, ,(SUMIF('2.) E-DATA LISTING'!$B$7:$D$200,C15,'2.) E-DATA LISTING'!$D$7:D203))) -> 0 | G15: =+E15*F15 -> 0
D16: =IF(C16=0, ,(_xlfn.XLOOKUP(C16,'Product list'!$D$2:$D$15,'Product list'!$C$2:$C$15))) -> 0 | E16: =IF(C16=0, ,(_xlfn.XLOOKUP(C16,'Product list'!$D$2:$D$15,'Product list'!$E$2:$E$15))) -> 0 | F16: =IF(C16=0, ,(SUMIF('2.) E-DATA LISTING'!$B$7:$D$200,C16,'2.) E-DATA LISTING'!$D$7:D204))) -> 0 | G16: =+E16*F16 -> 0
D17: =IF(C17=0, ,(_xlfn.XLOOKUP(C17,'Product list'!$D$2:$D$15,'Product list'!$C$2:$C$15))) -> 0 | E17: =IF(C17=0, ,(_xlfn.XLOOKUP(C17,'Product list'!$D$2:$D$15,'Product list'!$E$2:$E$15))) -> 0 | F17: =IF(C17=0, ,(SUMIF('2.) E-DATA LISTING'!$B$7:$D$200,C17,'2.) E-DATA LISTING'!$D$7:D205))) -> 0 | G17: =+E17*F17 -> 0
D18: =IF(C18=0, ,(_xlfn.XLOOKUP(C18,'Product list'!$D$2:$D$15,'Product list'!$C$2:$C$15))) -> 0 | E18: =IF(C18=0, ,(_xlfn.XLOOKUP(C18,'Product list'!$D$2:$D$15,'Product list'!$E$2:$E$15))) -> 0 | F18: =IF(C18=0, ,(SUMIF('2.) E-DATA LISTING'!$B$7:$D$200,C18,'2.) E-DATA LISTING'!$D$7:D206))) -> 0 | G18: =+E18*F18 -> 0
D19: =IF(C19=0, ,(_xlfn.XLOOKUP(C19,'Product list'!$D$2:$D$15,'Product list'!$C$2:$C$15))) -> 0 | E19: =IF(C19=0, ,(_xlfn.XLOOKUP(C19,'Product list'!$D$2:$D$15,'Product list'!$E$2:$E$15))) -> 0 | F19: =IF(C19=0, ,(SUMIF('2.) E-DATA LISTING'!$B$7:$D$200,C19,'2.) E-DATA LISTING'!$D$7:D207))) -> 0 | G19: =+E19*F19 -> 0
D20: =IF(C20=0, ,(_xlfn.XLOOKUP(C20,'Product list'!$D$2:$D$15,'Product list'!$C$2:$C$15))) -> 0 | E20: =IF(C20=0, ,(_xlfn.XLOOKUP(C20,'Product list'!$D$2:$D$15,'Product list'!$E$2:$E$15))) -> 0 | F20: =IF(C20=0, ,(SUMIF('2.) E-DATA LISTING'!$B$7:$D$200,C20,'2.) E-DATA LISTING'!$D$7:D208))) -> 0 | G20: =+E20*F20 -> 0
D21: =IF(C21=0, ,(_xlfn.XLOOKUP(C21,'Product list'!$D$2:$D$15,'Product list'!$C$2:$C$15))) -> 0 | E21: =IF(C21=0, ,(_xlfn.XLOOKUP(C21,'Product list'!$D$2:$D$15,'Product list'!$E$2:$E$15))) -> 0 | F21: =IF(C21=0, ,(SUMIF('2.) E-DATA LISTING'!$B$7:$D$200,C21,'2.) E-DATA LISTING'!$D$7:D209))) -> 0 | G21: =+E21*F21 -> 0
D22: =IF(C22=0, ,(_xlfn.XLOOKUP(C22,'Product list'!$D$2:$D$15,'Product list'!$C$2:$C$15))) -> 0 | E22: =IF(C22=0, ,(_xlfn.XLOOKUP(C22,'Product list'!$D$2:$D$15,'Product list'!$E$2:$E$15))) -> 0 | F22: =IF(C22=0, ,(SUMIF('2.) E-DATA LISTING'!$B$7:$D$200,C22,'2.) E-DATA LISTING'!$D$7:D210))) -> 0 | G22: =+E22*F22 -> 0
D23: =IF(C23=0, ,(_xlfn.XLOOKUP(C23,'Product list'!$D$2:$D$15,'Product list'!$C$2:$C$15))) -> 0 | E23: =IF(C23=0, ,(_xlfn.XLOOKUP(C23,'Product list'!$D$2:$D$15,'Product list'!$E$2:$E$15))) -> 0 | F23: =IF(C23=0, ,(SUMIF('2.) E-DATA LISTING'!$B$7:$D$200,C23,'2.) E-DATA LISTING'!$D$7:D211))) -> 0 | G23: =+E23*F23 -> 0
D24: =IF(C24=0, ,(_xlfn.XLOOKUP(C24,'Product list'!$D$2:$D$15,'Product list'!$C$2:$C$15))) -> 0 | E24: =IF(C24=0, ,(_xlfn.XLOOKUP(C24,'Product list'!$D$2:$D$15,'Product list'!$E$2:$E$15))) -> 0 | F24: =IF(C24=0, ,(SUMIF('2.) E-DATA LISTING'!$B$7:$D$200,C24,'2.) E-DATA LISTING'!$D$7:D212))) -> 0 | G24: =+E24*F24 -> 0
D25: =IF(C25=0, ,(_xlfn.XLOOKUP(C25,'Product list'!$D$2:$D$15,'Product list'!$C$2:$C$15))) -> 0 | E25: =IF(C25=0, ,(_xlfn.XLOOKUP(C25,'Product list'!$D$2:$D$15,'Product list'!$E$2:$E$15))) -> 0 | F25: =IF(C25=0, ,(SUMIF('2.) E-DATA LISTING'!$B$7:$D$200,C25,'2.) E-DATA LISTING'!$D$7:D213))) -> 0 | G25: =+E25*F25 -> 0
F26: TOTAL | G26: =SUM(G12:G25) -> 3850
F27: Net of VAT | G27: =+G26/1.12 -> 3437.5
F28: 12% VAT | G28: =+G26-G27 -> 412.5
F29: 2% W/TAX | G29: =+G27*2% -> 68.75
F30: Subtotal | G30: =+G26-G29 -> 3781.25
F31: Gand Total | G31: =+G27+G28 -> 3850
C33: BILL TO:
C35: =+'1.) CLIENT INFORMATION SHEET'!C3 -> 0
C36: =+'1.) CLIENT INFORMATION SHEET'!#REF! -> #REF!
C37: =+'1.) CLIENT INFORMATION SHEET'!C9 -> 0
C38: ='1.) CLIENT INFORMATION SHEET'!C11 -> 0
C39: ="TIN: " & +'1.) CLIENT INFORMATION SHEET'!C14 -> TIN:
C41: Step 1
C42: You may transfer payment using following account details:
C43: • Account name: INSULAR HEALTH CARE, INC.
C44: • Account number (will depend on preferred bank)
C45: o Unionbank: 000010019893
C46: o BDO: 002048012136
C47: o BPI: 3390007875
C48: ="• Reference number (if needed): "& TEXT(C5, "ddmmyyy") -> • Reference number (if needed): 03122025
C49: ="• Amount to be paid: "& TEXT(G31, "###,###.00") -> • Amount to be paid: 3,850.00
C50: You can also pay via other payment channels such as over the counter, e-wallet and credit card through
C51: Payments - iCare Top Affordable HMO Philippines
...

Sheet Billing
C5: 45994
C9: BILLING INVOICE
C11: ITEM | D11: SKU | E11: PRICE | F11: UNIT | G11: SUBTOTAL
C12: {=_xlfn.UNIQUE('1.) CLIENT INFORMATION SHEET'!B17:B30)} -> ER Care All-In 80 Adults Semi Private | D12: =IF(C12=0, ,(_xlfn.XLOOKUP(C12,'Product list'!$D$2:$D$15,'Product list'!$C$2:$C$15))) -> ERCAI80A | E12: =IF(C12=0, ,(_xlfn.XLOOKUP(C12,'Product list'!$D$2:$D$15,'Product list'!$E$2:$E$15))) -> 1350 | F12: =IF(C12=0, ,(SUMIF('2.) E-DATA LISTING'!$B$7:$D$200,C12,'2.) E-DATA LISTING'!$D$7:D200))) -> 1 | G12: =+E12*F12 -> 1350
C13: MedConsult Adults | D13: =IF(C13=0, ,(_xlfn.XLOOKUP(C13,'Product list'!$D$2:$D$15,'Product list'!$C$2:$C$15))) -> MCA | E13: =IF(C13=0, ,(_xlfn.XLOOKUP(C13,'Product list'!$D$2:$D$15,'Product list'!$E$2:$E$15))) -> 2500 | F13: =IF(C13=0, ,(SUMIF('2.) E-DATA LISTING'!$B$7:$D$200,C13,'2.) E-DATA LISTING'!$D$7:D201))) -> 1 | G13: =+E13*F13 -> 2500
C14: 0 | D14: =IF(C14=0, ,(_xlfn.XLOOKUP(C14,'Product list'!$D$2:$D$15,'Product list'!$C$2:$C$15))) -> 0 | E14: =IF(C14=0, ,(_xlfn.XLOOKUP(C14,'Product list'!$D$2:$D$15,'Product list'!$E$2:$E$15))) -> 0 | F14: =IF(C14=0, ,(SUMIF('2.) E-DATA LISTING'!$B$7:$D$200,C14,'2.) E-DATA LISTING'!$D$7:D202))) -> 0 | G14: =+E14*F14 -> 0
C15: 0 | D15: =IF(C15=0, ,(_xlfn.XLOOKUP(C15,'Product list'!$D$2:$D$15,'Product list'!$C$2:$C$15))) -> 0 | E15: =IF(C15=0, ,(_xlfn.XLOOKUP(C15,'Product list'!$D$2:$D$15,'Product list'!$E$2:$E$15))) -> 0 | F15: =IF(C15=0, ,(SUMIF('2.) E-DATA LISTING'!$B$7:$D$200,C15,'2.) E-DATA LISTING'!$D$7:D203))) -> 0 | G15: =+E15*F15 -> 0
D16: =IF(C16=0, ,(_xlfn.XLOOKUP(C16,'Product list'!$D$2:$D$15,'Product list'!$C$2:$C$15))) -> 0 | E16: =IF(C16=0, ,(_xlfn.XLOOKUP(C16,'Product list'!$D$2:$D$15,'Product list'!$E$2:$E$15))) -> 0 | F16: =IF(C16=0, ,(SUMIF('2.) E-DATA LISTING'!$B$7:$D$200,C16,'2.) E-DATA LISTING'!$D$7:D204))) -> 0 | G16: =+E16*F16 -> 0
D17: =IF(C17=0, ,(_xlfn.XLOOKUP(C17,'Product list'!$D$2:$D$15,'Product list'!$C$2:$C$15))) -> 0 | E17: =IF(C17=0, ,(_xlfn.XLOOKUP(C17,'Product list'!$D$2:$D$15,'Product list'!$E$2:$E$15))) -> 0 | F17: =IF(C17=0, ,(SUMIF('2.) E-DATA LISTING'!$B$7:$D$200,C17,'2.) E-DATA LISTING'!$D$7:D205))) -> 0 | G17: =+E17*F17 -> 0
D18: =IF(C18=0, ,(_xlfn.XLOOKUP(C18,'Product list'!$D$2:$D$15,'Product list'!$C$2:$C$15))) -> 0 | E18: =IF(C18=0, ,(_xlfn.XLOOKUP(C18,'Product list'!$D$2:$D$15,'Product list'!$E$2:$E$15))) -> 0 | F18: =IF(C18=0, ,(SUMIF('2.) E-DATA LISTING'!$B$7:$D$200,C18,'2.) E-DATA LISTING'!$D$7:D206))) -> 0 | G18: =+E18*F18 -> 0
D19: =IF(C19=0, ,(_xlfn.XLOOKUP(C19,'Product list'!$D$2:$D$15,'Product list'!$C$2:$C$15))) -> 0 | E19: =IF(C19=0, ,(_xlfn.XLOOKUP(C19,'Product list'!$D$2:$D$15,'Product list'!$E$2:$E$15))) -> 0 | F19: =IF(C19=0, ,(SUMIF('2.) E-DATA LISTING'!$B$7:$D$200,C19,'2.) E-DATA LISTING'!$D$7:D207))) -> 0 | G19: =+E19*F19 -> 0
D20: =IF(C20=0, ,(_xlfn.XLOOKUP(C20,'Product list'!$D$2:$D$15,'Product list'!$C$2:$C$15))) -> 0 | E20: =IF(C20=0, ,(_xlfn.XLOOKUP(C20,'Product list'!$D$2:$D$15,'Product list'!$E$2:$E$15))) -> 0 | F20: =IF(C20=0, ,(SUMIF('2.) E-DATA LISTING'!$B$7:$D$200,C20,'2.) E-DATA LISTING'!$D$7:D208))) -> 0 | G20: =+E20*F20 -> 0
D21: =IF(C21=0, ,(_xlfn.XLOOKUP(C21,'Product list'!$D$2:$D$15,'Product list'!$C$2:$C$15))) -> 0 | E21: =IF(C21=0, ,(_xlfn.XLOOKUP(C21,'Product list'!$D$2:$D$15,'Product list'!$E$2:$E$15))) -> 0 | F21: =IF(C21=0, ,(SUMIF('2.) E-DATA LISTING'!$B$7:$D$200,C21,'2.) E-DATA LISTING'!$D$7:D209))) -> 0 | G21: =+E21*F21 -> 0
D22: =IF(C22=0, ,(_xlfn.XLOOKUP(C22,'Product list'!$D$2:$D$15,'Product list'!$C$2:$C$15))) -> 0 | E22: =IF(C22=0, ,(_xlfn.XLOOKUP(C22,'Product list'!$D$2:$D$15,'Product list'!$E$2:$E$15))) -> 0 | F22: =IF(C22=0, ,(SUMIF('2.) E-DATA LISTING'!$B$7:$D$200,C22,'2.) E-DATA LISTING'!$D$7:D210))) -> 0 | G22: =+E22*F22 -> 0
D23: =IF(C23=0, ,(_xlfn.XLOOKUP(C23,'Product list'!$D$2:$D$15,'Product list'!$C$2:$C$15))) -> 0 | E23: =IF(C23=0, ,(_xlfn.XLOOKUP(C23,'Product list'!$D$2:$D$15,'Product list'!$E$2:$E$15))) -> 0 | F23: =IF(C23=0, ,(SUMIF('2.) E-DATA LISTING'!$B$7:$D$200,C23,'2.) E-DATA LISTING'!$D$7:D211))) -> 0 | G23: =+E23*F23 -> 0
D24: =IF(C24=0, ,(_xlfn.XLOOKUP(C24,'Product list'!$D$2:$D$15,'Product list'!$C$2:$C$15))) -> 0 | E24: =IF(C24=0, ,(_xlfn.XLOOKUP(C24,'Product list'!$D$2:$D$15,'Product list'!$E$2:$E$15))) -> 0 | F24: =IF(C24=0, ,(SUMIF('2.) E-DATA LISTING'!$B$7:$D$200,C24,'2.) E-DATA LISTING'!$D$7:D212))) -> 0 | G24: =+E24*F24 -> 0
D25: =IF(C25=0, ,(_xlfn.XLOOKUP(C25,'Product list'!$D$2:$D$16,'Product list'!$C$2:$C$16))) -> 0 | E25: =IF(C25=0, ,(_xlfn.XLOOKUP(C25,'Product list'!$D$2:$D$16,'Product list'!$E$2:$E$16))) -> 0 | F25: =IF(C25=0, ,(SUMIF('2.) E-DATA LISTING'!$B$7:$D$200,C25,'2.) E-DATA LISTING'!$D$7:D213))) -> 0 | G25: =+E25*F25 -> 0
F26: TOTAL | G26: =SUM(G12:G25) -> 3850
F27: Net of VAT | G27: =+G26/1.12 -> 3437.5
F28: 12% VAT | G28: =+G26-G27 -> 412.5
F30: Subtotal | G30: =+G26-G29 -> 3850
F31: Gand Total | G31: =+G27+G28 -> 3850
C33: BILL TO:
C35: =+'1.) CLIENT INFORMATION SHEET'!C3 -> 0
C36: =+'1.) CLIENT INFORMATION SHEET'!#REF! -> #REF!
C37: =+'1.) CLIENT INFORMATION SHEET'!C9 -> 0
C38: ='1.) CLIENT INFORMATION SHEET'!C11 -> 0
C39: ="TIN: " & +'1.) CLIENT INFORMATION SHEET'!C14 -> TIN:
C41: Step 1
C42: You may transfer payment using following account details:
C43: • Account name: INSULAR HEALTH CARE, INC.
C44: • Account number (will depend on preferred bank)
C45: o Unionbank: 000010019893
C46: o BDO: 002048012136
C47: o BPI: 3390007875
C48: ="• Reference number (if needed): "& TEXT(C5, "ddmmyyy") -> • Reference number (if needed): 03122025
C49: ="• Amount to be paid: "& TEXT(G31, "###,###.00") -> • Amount to be paid: 3,850.00
C50: You can also pay via other payment channels such as over the counter, e-wallet and credit card through
C51: Payments - iCare Top Affordable HMO Philippines
C53: STEP 2: Once paid, send proof of payment to Insular Health Care to cashier@insularhealthcare.com.ph. Payments net
...

Sheet SOA BILL
C5: =TODAY() -> 46288
C9: BILLING INVOICE
C11: ITEM | D11: SKU | E11: PRICE | F11: UNIT | G11: SUBTOTAL
C12: {=_xlfn.UNIQUE('1.) CLIENT INFORMATION SHEET'!B17:B30)} -> ER Care All-In 80 Adults Semi Private | D12: =IF(C12=0, ,(_xlfn.XLOOKUP(C12,'Product list'!$D$2:$D$15,'Product list'!$C$2:$C$15))) -> ERCAI80A | E12: =IF(C12=0, ,(_xlfn.XLOOKUP(C12,'Product list'!$D$2:$D$15,'Product list'!$E$2:$E$15))) -> 1350 | F12: =IF(C12=0, ,(SUMIF('2.) E-DATA LISTING'!$B$7:$D$200,C12,'2.) E-DATA LISTING'!$D$7:D200))) -> 1 | G12: =+E12*F12 -> 1350
C13: MedConsult Adults | D13: =IF(C13=0, ,(_xlfn.XLOOKUP(C13,'Product list'!$D$2:$D$15,'Product list'!$C$2:$C$15))) -> MCA | E13: =IF(C13=0, ,(_xlfn.XLOOKUP(C13,'Product list'!$D$2:$D$15,'Product list'!$E$2:$E$15))) -> 2500 | F13: =IF(C13=0, ,(SUMIF('2.) E-DATA LISTING'!$B$7:$D$200,C13,'2.) E-DATA LISTING'!$D$7:D201))) -> 1 | G13: =+E13*F13 -> 2500
C14: 0 | D14: =IF(C14=0, ,(_xlfn.XLOOKUP(C14,'Product list'!$D$2:$D$15,'Product list'!$C$2:$C$15))) -> 0 | E14: =IF(C14=0, ,(_xlfn.XLOOKUP(C14,'Product list'!$D$2:$D$15,'Product list'!$E$2:$E$15))) -> 0 | F14: =IF(C14=0, ,(SUMIF('2.) E-DATA LISTING'!$B$7:$D$200,C14,'2.) E-DATA LISTING'!$D$7:D202))) -> 0 | G14: =+E14*F14 -> 0
C15: 0 | D15: =IF(C15=0, ,(_xlfn.XLOOKUP(C15,'Product list'!$D$2:$D$15,'Product list'!$C$2:$C$15))) -> 0 | E15: =IF(C15=0, ,(_xlfn.XLOOKUP(C15,'Product list'!$D$2:$D$15,'Product list'!$E$2:$E$15))) -> 0 | F15: =IF(C15=0, ,(SUMIF('2.) E-DATA LISTING'!$B$7:$D$200,C15,'2.) E-DATA LISTING'!$D$7:D203))) -> 0 | G15: =+E15*F15 -> 0
D16: =IF(C16=0, ,(_xlfn.XLOOKUP(C16,'Product list'!$D$2:$D$15,'Product list'!$C$2:$C$15))) -> 0 | E16: =IF(C16=0, ,(_xlfn.XLOOKUP(C16,'Product list'!$D$2:$D$15,'Product list'!$E$2:$E$15))) -> 0 | F16: =IF(C16=0, ,(SUMIF('2.) E-DATA LISTING'!$B$7:$D$200,C16,'2.) E-DATA LISTING'!$D$7:D204))) -> 0 | G16: =+E16*F16 -> 0
D17: =IF(C17=0, ,(_xlfn.XLOOKUP(C17,'Product list'!$D$2:$D$15,'Product list'!$C$2:$C$15))) -> 0 | E17: =IF(C17=0, ,(_xlfn.XLOOKUP(C17,'Product list'!$D$2:$D$15,'Product list'!$E$2:$E$15))) -> 0 | F17: =IF(C17=0, ,(SUMIF('2.) E-DATA LISTING'!$B$7:$D$200,C17,'2.) E-DATA LISTING'!$D$7:D205))) -> 0 | G17: =+E17*F17 -> 0
D18: =IF(C18=0, ,(_xlfn.XLOOKUP(C18,'Product list'!$D$2:$D$15,'Product list'!$C$2:$C$15))) -> 0 | E18: =IF(C18=0, ,(_xlfn.XLOOKUP(C18,'Product list'!$D$2:$D$15,'Product list'!$E$2:$E$15))) -> 0 | F18: =IF(C18=0, ,(SUMIF('2.) E-DATA LISTING'!$B$7:$D$200,C18,'2.) E-DATA LISTING'!$D$7:D206))) -> 0 | G18: =+E18*F18 -> 0
D19: =IF(C19=0, ,(_xlfn.XLOOKUP(C19,'Product list'!$D$2:$D$15,'Product list'!$C$2:$C$15))) -> 0 | E19: =IF(C19=0, ,(_xlfn.XLOOKUP(C19,'Product list'!$D$2:$D$15,'Product list'!$E$2:$E$15))) -> 0 | F19: =IF(C19=0, ,(SUMIF('2.) E-DATA LISTING'!$B$7:$D$200,C19,'2.) E-DATA LISTING'!$D$7:D207))) -> 0 | G19: =+E19*F19 -> 0
D20: =IF(C20=0, ,(_xlfn.XLOOKUP(C20,'Product list'!$D$2:$D$15,'Product list'!$C$2:$C$15))) -> 0 | E20: =IF(C20=0, ,(_xlfn.XLOOKUP(C20,'Product list'!$D$2:$D$15,'Product list'!$E$2:$E$15))) -> 0 | F20: =IF(C20=0, ,(SUMIF('2.) E-DATA LISTING'!$B$7:$D$200,C20,'2.) E-DATA LISTING'!$D$7:D208))) -> 0 | G20: =+E20*F20 -> 0
D21: =IF(C21=0, ,(_xlfn.XLOOKUP(C21,'Product list'!$D$2:$D$15,'Product list'!$C$2:$C$15))) -> 0 | E21: =IF(C21=0, ,(_xlfn.XLOOKUP(C21,'Product list'!$D$2:$D$15,'Product list'!$E$2:$E$15))) -> 0 | F21: =IF(C21=0, ,(SUMIF('2.) E-DATA LISTING'!$B$7:$D$200,C21,'2.) E-DATA LISTING'!$D$7:D209))) -> 0 | G21: =+E21*F21 -> 0
D22: =IF(C22=0, ,(_xlfn.XLOOKUP(C22,'Product list'!$D$2:$D$15,'Product list'!$C$2:$C$15))) -> 0 | E22: =IF(C22=0, ,(_xlfn.XLOOKUP(C22,'Product list'!$D$2:$D$15,'Product list'!$E$2:$E$15))) -> 0 | F22: =IF(C22=0, ,(SUMIF('2.) E-DATA LISTING'!$B$7:$D$200,C22,'2.) E-DATA LISTING'!$D$7:D210))) -> 0 | G22: =+E22*F22 -> 0
D23: =IF(C23=0, ,(_xlfn.XLOOKUP(C23,'Product list'!$D$2:$D$15,'Product list'!$C$2:$C$15))) -> 0 | E23: =IF(C23=0, ,(_xlfn.XLOOKUP(C23,'Product list'!$D$2:$D$15,'Product list'!$E$2:$E$15))) -> 0 | F23: =IF(C23=0, ,(SUMIF('2.) E-DATA LISTING'!$B$7:$D$200,C23,'2.) E-DATA LISTING'!$D$7:D211))) -> 0 | G23: =+E23*F23 -> 0
D24: =IF(C24=0, ,(_xlfn.XLOOKUP(C24,'Product list'!$D$2:$D$15,'Product list'!$C$2:$C$15))) -> 0 | E24: =IF(C24=0, ,(_xlfn.XLOOKUP(C24,'Product list'!$D$2:$D$15,'Product list'!$E$2:$E$15))) -> 0 | F24: =IF(C24=0, ,(SUMIF('2.) E-DATA LISTING'!$B$7:$D$200,C24,'2.) E-DATA LISTING'!$D$7:D212))) -> 0 | G24: =+E24*F24 -> 0
D25: =IF(C25=0, ,(_xlfn.XLOOKUP(C25,'Product list'!$D$2:$D$15,'Product list'!$C$2:$C$15))) -> 0 | E25: =IF(C25=0, ,(_xlfn.XLOOKUP(C25,'Product list'!$D$2:$D$15,'Product list'!$E$2:$E$15))) -> 0 | F25: =IF(C25=0, ,(SUMIF('2.) E-DATA LISTING'!$B$7:$D$200,C25,'2.) E-DATA LISTING'!$D$7:D213))) -> 0 | G25: =+E25*F25 -> 0
D26: =IF(C26=0, ,(_xlfn.XLOOKUP(C26,'Product list'!$D$2:$D$15,'Product list'!$C$2:$C$15))) -> 0 | E26: =IF(C26=0, ,(_xlfn.XLOOKUP(C26,'Product list'!$D$2:$D$15,'Product list'!$E$2:$E$15))) -> 0 | F26: =IF(C26=0, ,(SUMIF('2.) E-DATA LISTING'!$B$7:$D$200,C26,'2.) E-DATA LISTING'!$D$7:D214))) -> 0 | G26: =+E26*F26 -> 0
D27: =IF(C27=0, ,(_xlfn.XLOOKUP(C27,'Product list'!$D$2:$D$15,'Product list'!$C$2:$C$15))) -> 0 | E27: =IF(C27=0, ,(_xlfn.XLOOKUP(C27,'Product list'!$D$2:$D$15,'Product list'!$E$2:$E$15))) -> 0 | F27: =IF(C27=0, ,(SUMIF('2.) E-DATA LISTING'!$B$7:$D$200,C27,'2.) E-DATA LISTING'!$D$7:D224))) -> 0 | G27: =+E27*F27 -> 0
F28: TOTAL | G28: =SUM(G12:G27) -> 3850
F29: Net of VAT | G29: =+G28/1.12 -> 3437.5
F30: 12% VAT | G30: =+G28-G29 -> 412.5
F31: 2% W/TAX | G31: =+G29*2% -> 68.75
F32: Subtotal | G32: =+G28-G31 -> 3781.25
F33: Gand Total | G33: =+G29+G30 -> 3850
C35: BILL TO:
C37: =+'1.) CLIENT INFORMATION SHEET'!C3 -> 0
C38: =+'1.) CLIENT INFORMATION SHEET'!#REF! -> #REF!
C39: =+'1.) CLIENT INFORMATION SHEET'!C9 -> 0
C40: ='1.) CLIENT INFORMATION SHEET'!C11 -> 0
C41: ="TIN: " & +'1.) CLIENT INFORMATION SHEET'!C14 -> TIN:
C48: =+C5 -> 46288
C49: =" Amount to be paid: "& TEXT(G33, "###,###.00") -> Amount to be paid: 3,850.00
C57: Important notice: By purchasing and registering this health voucher, you agree and acknowledge the Insular Health Care Agreement governing the use of this health voucher.
C59: Prepared by:
C63: RAUL C. ALCAZAR
C64: Accredited Sales Partner

Sheet Product list (2)
B2: PRODUCT NUMBER | C2: Prepaid plans | E2: Membership fee
B3: 1 | C3: Dengue Flex | E3: 500 | F3: Dengue Fever, Leptospirosis, Covid 19
B4: 2 | C4: ER Care All-In 100 Adults | E4: 1750 | F4: ER Treatment and Hospital Confinement due to Accident, Viral, Bacterial & specific conditions
B5: 3 | C5: ER Care All-In 100 Adults (w/ top 6 access) | E5: 2450 | F5: ER Treatment and Hospital Confinement due to Accident, Viral, Bacterial & specific conditions
B6: 4 | C6: ER Care All-In 100 Kids | E6: 5150 | F6: ER Treatment and Hospital Confinement due to Accident, Viral, Bacterial & specific conditions
B7: 5 | C7: ER Care All-In 100 Kids (w/ top 6 access) | E7: 7150 | F7: ER Treatment and Hospital Confinement due to Accident, Viral, Bacterial & specific conditions
B8: 6 | C8: ER Care All-In 60 Kids | E8: 3150 | F8: ER Treatment and Hospital Confinement due to Accident, Viral, Bacterial & specific conditions
B9: 7 | C9: ER Care All-In 60 Kids (w/ top 6 access) | E9: 5150 | F9: ER Treatment and Hospital Confinement due to Accident, Viral, Bacterial & specific conditions
B10: 8 | C10: ER Care All-In 80 Adults | E10: 1350 | F10: ER Treatment and Hospital Confinement due to Accident, Viral, Bacterial & specific conditions
B11: 9 | C11: ER Care All-In 80 Adults (w/ top 6 access) | E11: 2050 | F11: ER Treatment and Hospital Confinement due to Accident, Viral, Bacterial & specific conditions
B12: 10 | C12: ER Care All-In 80 Kids | E12: 4150 | F12: ER Treatment and Hospital Confinement due to Accident, Viral, Bacterial & specific conditions
B13: 11 | C13: ER Care All-In 80 Kids (w/ top 6 access) | E13: 6150 | F13: ER Treatment and Hospital Confinement due to Accident, Viral, Bacterial & specific conditions
B14: 12 | C14: ER Care Basic 50 | E14: 700 | F14: ER Treatment due to Accident
... B30: 28 | C30: MedConsult Seniors | E30: 3500 | F30: Consultations & Dental
B31: 29 | C31: She's Well Lily | E31: 8300
B32: 30 | C32: She's Well Violet | E32: 19700
B33: 31 | C33: Total ProtectER | E33: 11750 | F33: ER Treatment and Hospital Confinement due to Accident, Viral, Bacterial & specific conditions w/ life insurance
B34: 32 | C34: Total ProtectER (w/ top 6 access) | E34: 12450 | F34: ER Treatment and Hospital Confinement due to Accident, Viral, Bacterial & specific conditions w/ life insurance
B35: 33 | C35: up to 32 only | D35: nil | E35: 0 | F35: nil

Sheet Prepaid plans
A1: PRODUCT NUMBER | B1: Prepaid plans | C1: Membership fee
A2: a | B2: ER Care All-In 100 Adults Regular Private | C2: 1750
A3: b | B3: ER Care All-In 100 Adults RegularPrivate (w/ top 6 access) | C3: 2450
A4: c | B4: ER Care All-In 80 Adults Semi Private | C4: 1350
A5: d | B5: ER Care All-In 80 Adults Semi Private (w/ top 6 access) | C5: 2050
A6: e | B6: ER Care All-In 60 Kids Ward | C6: 3150
A7: f | B7: ER Care All-In 60 Kids Ward (w/ top 6 access) | C7: 5150
A8: g | B8: ER Care All-In 80 Kids Semi Private | C8: 4150
A9: h | B9: ER Care All-In 80 Kids Semi Private (w/ top 6 access) | C9: 6150
A10: i | B10: ER Care All-In 100 Kids Regular Private | C10: 5150
A11: j | B11: ER Care All-In 100 Kids Regular Private (w/ top 6 access) | C11: 7150
A12: k | B12: MedConsult Adults | C12: 2500
A13: l | B13: MedConsult Kids | C13: 3000
... A15: n | B15: -end' | C15: 5
